BEGIN:VCALENDAR
VERSION:2.0
PRODID:-//Game4Good - ECPv6.15.17.1//NONSGML v1.0//EN
CALSCALE:GREGORIAN
METHOD:PUBLISH
X-ORIGINAL-URL:https://www.game4good.gg
X-WR-CALDESC:Events for Game4Good
REFRESH-INTERVAL;VALUE=DURATION:PT1H
X-Robots-Tag:noindex
X-PUBLISHED-TTL:PT1H
BEGIN:VTIMEZONE
TZID:UTC
BEGIN:STANDARD
TZOFFSETFROM:+0000
TZOFFSETTO:+0000
TZNAME:UTC
DTSTART:20240101T000000
END:STANDARD
END:VTIMEZONE
BEGIN:VEVENT
DTSTART;TZID=UTC:20251114T080000
DTEND;TZID=UTC:20251116T170000
DTSTAMP:20260419T215545
CREATED:20251114T060039Z
LAST-MODIFIED:20250702T215013Z
UID:54869-1763107200-1763312400@www.game4good.gg
SUMMARY:Game Your Future 2025
DESCRIPTION:Vision \nTo lead and build an ecosystem that effectively\, efficiently\, and equitably integrates digital and virtual real estate to improve and expand business practices by introducing elements of the gaming industry and culture as a vehicle of activation. \nMission \nDemonstrate the value of gaming beyond entertainment by aligning economic development strategies\, industries\, and sectors\, leveraging video games as the vehicle. \nThis year’s 4th Annual Game Your Future Festival theme is “Game Development\,” and it will focus on the game developer perspective in the gaming and esports space.\nThe event will have multiple tracks\, broken into three main components: \n\nStanding Events\nAudience Events\nParticipation Events\n\nEvent BreakDown \nDay 1 Friday\, November 14th\, 2025 \n\nYouth Engagement Day: IGDA Showcase\, Youth Focused Workshops\nEvening Professional Networking\n\nDay 2\, Saturday\, November 15th\, 2025 \n\nBreakfast\nProfessional Theme Panel Discussions\nProfessional & Youth Workshops\nVIP Lunch\nIGDA Showcase\nEvening Gala\n\nDay 3\, Sunday\, November 16th\, 2025 \n\nBreakfast\nEnding Ceremony\nTournament Finals\nWorkshops Conclude
URL:https://www.game4good.gg/event/gyf2025/
LOCATION:Baltimore Convention Center\, 1 W Pratt St\, Baltimore\, MD\, 21201\, United States
CATEGORIES:Games 1
ATTACH;FMTTYPE=image/jpeg:https://www.game4good.gg/wp-content/uploads/2024/05/PXL_20241109_022652714-2.jpg
END:VEVENT
END:VCALENDAR